BEGIN:VCALENDAR
VERSION:2.0
PRODID:-//fl_hie.com - ECPv6.15.20//NONSGML v1.0//EN
CALSCALE:GREGORIAN
METHOD:PUBLISH
X-WR-CALNAME:fl_hie.com
X-ORIGINAL-URL:https://florida-hie.net
X-WR-CALDESC:Events for fl_hie.com
REFRESH-INTERVAL;VALUE=DURATION:PT1H
X-Robots-Tag:noindex
X-PUBLISHED-TTL:PT1H
BEGIN:VTIMEZONE
TZID:America/New_York
BEGIN:DAYLIGHT
TZOFFSETFROM:-0500
TZOFFSETTO:-0400
TZNAME:EDT
DTSTART:20200308T070000
END:DAYLIGHT
BEGIN:STANDARD
TZOFFSETFROM:-0400
TZOFFSETTO:-0500
TZNAME:EST
DTSTART:20201101T060000
END:STANDARD
BEGIN:DAYLIGHT
TZOFFSETFROM:-0500
TZOFFSETTO:-0400
TZNAME:EDT
DTSTART:20210314T070000
END:DAYLIGHT
BEGIN:STANDARD
TZOFFSETFROM:-0400
TZOFFSETTO:-0500
TZNAME:EST
DTSTART:20211107T060000
END:STANDARD
BEGIN:DAYLIGHT
TZOFFSETFROM:-0500
TZOFFSETTO:-0400
TZNAME:EDT
DTSTART:20220313T070000
END:DAYLIGHT
BEGIN:STANDARD
TZOFFSETFROM:-0400
TZOFFSETTO:-0500
TZNAME:EST
DTSTART:20221106T060000
END:STANDARD
BEGIN:DAYLIGHT
TZOFFSETFROM:-0500
TZOFFSETTO:-0400
TZNAME:EDT
DTSTART:20230312T070000
END:DAYLIGHT
BEGIN:STANDARD
TZOFFSETFROM:-0400
TZOFFSETTO:-0500
TZNAME:EST
DTSTART:20231105T060000
END:STANDARD
END:VTIMEZONE
BEGIN:VEVENT
DTSTART;TZID=America/New_York:20211207T130000
DTEND;TZID=America/New_York:20211207T140000
DTSTAMP:20260419T153827
CREATED:20210831T143002Z
LAST-MODIFIED:20210831T143002Z
UID:6883-1638882000-1638885600@florida-hie.net
SUMMARY:The Florida HIE’s Encounter Notification Service (ENS)
DESCRIPTION:The Florida HIE will be hosting a webinar teaching you about ENS! Learn about the many ways the Florida HIE’s Encounter Notification Service (ENS) is transforming health care in Florida.
URL:https://florida-hie.net/event/the-florida-hies-encounter-notification-service-ens-dec/
LOCATION:Virtual
CATEGORIES:Upcoming Webinars
ORGANIZER;CN="Florida HIE Services":MAILTO:flhie_info@ainq.com
END:VEVENT
BEGIN:VEVENT
DTSTART;TZID=America/New_York:20211216T080000
DTEND;TZID=America/New_York:20211216T170000
DTSTAMP:20260419T153827
CREATED:20210831T143225Z
LAST-MODIFIED:20210831T143225Z
UID:6886-1639641600-1639674000@florida-hie.net
SUMMARY:Health IT Matters: The Physicians Health IT Journey
DESCRIPTION:You don’t want to miss this episode of Health IT Matters where we will be wrapping up a productive year with a discussion with Primary Care Providers (PCPs) use of Health IT to improve patient care.
URL:https://florida-hie.net/event/health-it-matters-the-physicians-health-it-journey/
LOCATION:Virtual
CATEGORIES:Upcoming Webinars
END:VEVENT
BEGIN:VEVENT
DTSTART;TZID=America/New_York:20220428T130000
DTEND;TZID=America/New_York:20220428T140000
DTSTAMP:20260419T153827
CREATED:20220425T171625Z
LAST-MODIFIED:20220425T171625Z
UID:8545-1651150800-1651154400@florida-hie.net
SUMMARY:Webinar: ENS for Providers
DESCRIPTION:Join us for one of our monthly webinars! This month we will be discussing how the Encounter Notification Service (ENS) can benefit providers along with how it works and how to get connected.
URL:https://florida-hie.net/event/webinar-ens-for-providers/
LOCATION:Virtual
END:VEVENT
BEGIN:VEVENT
DTSTART;TZID=America/New_York:20220623T130000
DTEND;TZID=America/New_York:20220623T140000
DTSTAMP:20260419T153827
CREATED:20220602T174827Z
LAST-MODIFIED:20220602T174827Z
UID:8599-1655989200-1655992800@florida-hie.net
SUMMARY:Real World: The Florida HIE's Encounter Notification Service (ENS) for Providers
DESCRIPTION:Panelists will be sitting down with the Florida HIE to discuss their experiences using the Encounter Notification Service (ENS)\, a care coordination tool that allows for easy notification of patient encounters.
URL:https://florida-hie.net/event/real-world-the-florida-hies-encounter-notification-service-ens-for-providers/
LOCATION:Virtual
CATEGORIES:Upcoming Webinars,Webinars
END:VEVENT
BEGIN:VEVENT
DTSTART;VALUE=DATE:20220731
DTEND;VALUE=DATE:20220805
DTSTAMP:20260419T153827
CREATED:20220906T194107Z
LAST-MODIFIED:20220906T194107Z
UID:8753-1659225600-1659657599@florida-hie.net
SUMMARY:Florida Healthcare Association Conference
DESCRIPTION:
URL:https://florida-hie.net/event/florida-healthcare-association-conference/
LOCATION:Orlando\, FL
CATEGORIES:Conferences
END:VEVENT
BEGIN:VEVENT
DTSTART;VALUE=DATE:20220817
DTEND;VALUE=DATE:20220820
DTSTAMP:20260419T153827
CREATED:20220906T194909Z
LAST-MODIFIED:20220906T194909Z
UID:8757-1660694400-1660953599@florida-hie.net
SUMMARY:Florida Behavioral Health Association Conference
DESCRIPTION:
URL:https://florida-hie.net/event/florida-behavioral-health-association-conference/
LOCATION:Orlando\, FL
END:VEVENT
BEGIN:VEVENT
DTSTART;VALUE=DATE:20221017
DTEND;VALUE=DATE:20221020
DTSTAMP:20260419T153827
CREATED:20220906T194948Z
LAST-MODIFIED:20220906T194948Z
UID:8759-1665964800-1666223999@florida-hie.net
SUMMARY:Florida Association of ACOs Annual Fall Conference
DESCRIPTION:
URL:https://florida-hie.net/event/florida-association-of-acos-annual-fall-conference/
LOCATION:Orlando\, FL
END:VEVENT
BEGIN:VEVENT
DTSTART;VALUE=DATE:20221116
DTEND;VALUE=DATE:20221119
DTSTAMP:20260419T153827
CREATED:20220906T195022Z
LAST-MODIFIED:20220906T195022Z
UID:8761-1668556800-1668815999@florida-hie.net
SUMMARY:Florida Association of Health Plans Conference
DESCRIPTION:
URL:https://florida-hie.net/event/florida-association-of-health-plans-conference/
LOCATION:Orlando\, FL
END:VEVENT
END:VCALENDAR