BEGIN:VCALENDAR
VERSION:2.0
PRODID:-//fl_hie.com - ECPv6.15.20//NONSGML v1.0//EN
CALSCALE:GREGORIAN
METHOD:PUBLISH
X-WR-CALNAME:fl_hie.com
X-ORIGINAL-URL:https://florida-hie.net
X-WR-CALDESC:Events for fl_hie.com
REFRESH-INTERVAL;VALUE=DURATION:PT1H
X-Robots-Tag:noindex
X-PUBLISHED-TTL:PT1H
BEGIN:VTIMEZONE
TZID:America/New_York
BEGIN:DAYLIGHT
TZOFFSETFROM:-0500
TZOFFSETTO:-0400
TZNAME:EDT
DTSTART:20210314T070000
END:DAYLIGHT
BEGIN:STANDARD
TZOFFSETFROM:-0400
TZOFFSETTO:-0500
TZNAME:EST
DTSTART:20211107T060000
END:STANDARD
BEGIN:DAYLIGHT
TZOFFSETFROM:-0500
TZOFFSETTO:-0400
TZNAME:EDT
DTSTART:20220313T070000
END:DAYLIGHT
BEGIN:STANDARD
TZOFFSETFROM:-0400
TZOFFSETTO:-0500
TZNAME:EST
DTSTART:20221106T060000
END:STANDARD
BEGIN:DAYLIGHT
TZOFFSETFROM:-0500
TZOFFSETTO:-0400
TZNAME:EDT
DTSTART:20230312T070000
END:DAYLIGHT
BEGIN:STANDARD
TZOFFSETFROM:-0400
TZOFFSETTO:-0500
TZNAME:EST
DTSTART:20231105T060000
END:STANDARD
END:VTIMEZONE
BEGIN:VEVENT
DTSTART;VALUE=DATE:20221017
DTEND;VALUE=DATE:20221020
DTSTAMP:20260419T203636
CREATED:20220906T194948Z
LAST-MODIFIED:20220906T194948Z
UID:8759-1665964800-1666223999@florida-hie.net
SUMMARY:Florida Association of ACOs Annual Fall Conference
DESCRIPTION:
URL:https://florida-hie.net/event/florida-association-of-acos-annual-fall-conference/
LOCATION:Orlando\, FL
END:VEVENT
BEGIN:VEVENT
DTSTART;VALUE=DATE:20221116
DTEND;VALUE=DATE:20221119
DTSTAMP:20260419T203636
CREATED:20220906T195022Z
LAST-MODIFIED:20220906T195022Z
UID:8761-1668556800-1668815999@florida-hie.net
SUMMARY:Florida Association of Health Plans Conference
DESCRIPTION:
URL:https://florida-hie.net/event/florida-association-of-health-plans-conference/
LOCATION:Orlando\, FL
END:VEVENT
END:VCALENDAR